BEGIN:VCALENDAR
VERSION:2.0
PRODID:-//St.-Antonius-Schützenbruderschaft-Hartefeld e.V. - ECPv6.15.20//NONSGML v1.0//EN
CALSCALE:GREGORIAN
METHOD:PUBLISH
X-ORIGINAL-URL:https://www.bruderschaft-hartefeld.de
X-WR-CALDESC:Veranstaltungen für St.-Antonius-Schützenbruderschaft-Hartefeld e.V.
REFRESH-INTERVAL;VALUE=DURATION:PT1H
X-Robots-Tag:noindex
X-PUBLISHED-TTL:PT1H
BEGIN:VTIMEZONE
TZID:Europe/Berlin
BEGIN:DAYLIGHT
TZOFFSETFROM:+0100
TZOFFSETTO:+0200
TZNAME:CEST
DTSTART:20250330T010000
END:DAYLIGHT
BEGIN:STANDARD
TZOFFSETFROM:+0200
TZOFFSETTO:+0100
TZNAME:CET
DTSTART:20251026T010000
END:STANDARD
BEGIN:DAYLIGHT
TZOFFSETFROM:+0100
TZOFFSETTO:+0200
TZNAME:CEST
DTSTART:20260329T010000
END:DAYLIGHT
BEGIN:STANDARD
TZOFFSETFROM:+0200
TZOFFSETTO:+0100
TZNAME:CET
DTSTART:20261025T010000
END:STANDARD
BEGIN:DAYLIGHT
TZOFFSETFROM:+0100
TZOFFSETTO:+0200
TZNAME:CEST
DTSTART:20270328T010000
END:DAYLIGHT
BEGIN:STANDARD
TZOFFSETFROM:+0200
TZOFFSETTO:+0100
TZNAME:CET
DTSTART:20271031T010000
END:STANDARD
END:VTIMEZONE
BEGIN:VEVENT
DTSTART;VALUE=DATE:20261017
DTEND;VALUE=DATE:20261018
DTSTAMP:20260422T174532
CREATED:20250102T074658Z
LAST-MODIFIED:20251230T105234Z
UID:1813-1792195200-1792281599@www.bruderschaft-hartefeld.de
SUMMARY:Dartturnier
DESCRIPTION:
URL:https://www.bruderschaft-hartefeld.de/termin/dartturnier/
LOCATION:Zur Dorfschmiede
END:VEVENT
BEGIN:VEVENT
DTSTART;VALUE=DATE:20261107
DTEND;VALUE=DATE:20261108
DTSTAMP:20260422T174532
CREATED:20230414T192442Z
LAST-MODIFIED:20251230T105320Z
UID:1181-1794009600-1794095999@www.bruderschaft-hartefeld.de
SUMMARY:Kulinarischer Theaterabend
DESCRIPTION:
URL:https://www.bruderschaft-hartefeld.de/termin/kulinarischer-theaterabend/
LOCATION:Zur Dorfschmiede
END:VEVENT
BEGIN:VEVENT
DTSTART;VALUE=DATE:20261108
DTEND;VALUE=DATE:20261109
DTSTAMP:20260422T174532
CREATED:20230414T192601Z
LAST-MODIFIED:20251230T105412Z
UID:1183-1794096000-1794182399@www.bruderschaft-hartefeld.de
SUMMARY:Theaterabend
DESCRIPTION:
URL:https://www.bruderschaft-hartefeld.de/termin/theaterabend/
LOCATION:Zur Dorfschmiede
END:VEVENT
BEGIN:VEVENT
DTSTART;VALUE=DATE:20261114
DTEND;VALUE=DATE:20261115
DTSTAMP:20260422T174532
CREATED:20230414T192648Z
LAST-MODIFIED:20251230T105430Z
UID:1185-1794614400-1794700799@www.bruderschaft-hartefeld.de
SUMMARY:Theaterabend
DESCRIPTION:
URL:https://www.bruderschaft-hartefeld.de/termin/theaterabend-2/
LOCATION:Zur Dorfschmiede
END:VEVENT
BEGIN:VEVENT
DTSTART;VALUE=DATE:20261115
DTEND;VALUE=DATE:20261116
DTSTAMP:20260422T174532
CREATED:20220925T171831Z
LAST-MODIFIED:20251230T105519Z
UID:893-1794700800-1794787199@www.bruderschaft-hartefeld.de
SUMMARY:Volkstrauertag
DESCRIPTION:
URL:https://www.bruderschaft-hartefeld.de/termin/volkstrauertag/
END:VEVENT
BEGIN:VEVENT
DTSTART;VALUE=DATE:20261115
DTEND;VALUE=DATE:20261116
DTSTAMP:20260422T174532
CREATED:20230414T192835Z
LAST-MODIFIED:20251230T105448Z
UID:1190-1794700800-1794787199@www.bruderschaft-hartefeld.de
SUMMARY:Theaterabend
DESCRIPTION:
URL:https://www.bruderschaft-hartefeld.de/termin/theaterabend-3/
LOCATION:Zur Dorfschmiede
END:VEVENT
BEGIN:VEVENT
DTSTART;VALUE=DATE:20261122
DTEND;VALUE=DATE:20261123
DTSTAMP:20260422T174532
CREATED:20220925T171920Z
LAST-MODIFIED:20251230T105557Z
UID:895-1795305600-1795391999@www.bruderschaft-hartefeld.de
SUMMARY:Christkönigsfest mit Versammlung
DESCRIPTION:
URL:https://www.bruderschaft-hartefeld.de/termin/christkoenigsfest/
END:VEVENT
BEGIN:VEVENT
DTSTART;VALUE=DATE:20261205
DTEND;VALUE=DATE:20261206
DTSTAMP:20260422T174532
CREATED:20221120T164956Z
LAST-MODIFIED:20251230T105625Z
UID:947-1796428800-1796515199@www.bruderschaft-hartefeld.de
SUMMARY:Nikolausrundgang
DESCRIPTION:
URL:https://www.bruderschaft-hartefeld.de/termin/nikolausrundgang/
END:VEVENT
END:VCALENDAR